Workbook

Sheet Orçamento
B1: PLANILHA ORÇAMENTÁRIA
B3: CLIENTE: | C3: TRIBUNAL REGIONAL DO TRABALHO DE SC 12º REGIÃO | G3: REVISÃO: | I3: R06 | J3: FONTE DE PREÇOS: | K3: SC-2026-JUNHO-NÃO DESONERADO-SINAPI
B4: ENDEREÇO: | C4: AVENIDA DR. GETÚLIO VARGAS, Nº 361, CENTRO, CRICIÚMA SC | G4: DATA DO ORÇAMENTO: | I4: 46245
B5: CIDADE: | C5: CRICIUMA | G5: DATA DA REVISÃO: | I5: 46245 | J5: B.D.I. GERAL | K5: 0.222
B6: OBRA: | C6: FÓRUM TRABALHISTA DE CRICIÚMA/SC - PADRÃO DE ENTRADA E SUBESTAÇÃO | H6: UF: | I6: SC | J6: B.D.I. DIFERENCIADO: | K6: 0.175
B8: RESUMO
B9: Tipo | D9: Preço | E9: Observação | F9: BDI
B10: Total | D10: =SUBTOTAL(109,N17:N176) -> 0 | E10: Total da edificação | F10: 0.222
B11: Total Sem BDI | D11: =N179 -> 0 | E11: Total da edificação sem a aplicação do BDI | F11: -
B12: Material | D12: =H180 -> #DIV/0! | E12: Material | F12: 0.222
B13: Mão de Obra | D13: =J180 -> #DIV/0! | E13: Mão de Obra, Transporte, Terceirizado, Comiss., Verba e Outro. | F13: 0.222
B15: Item | C15: Código | D15: Referência | E15: Descrição | F15: Unid. | G15: Quantidade | H15: Custo Material | J15: Custo Mão de obra | L15: CUSTO UNITÁRIO SEM B.D.I | M15: PREÇO UNITÁRIO COM B.D.I | N15: PREÇO TOTAL COM B.D.I | O15: %
H16: Unitário | I16: Total | J16: Unitário | K16: Total
B17: 1. | E17: ADMINISTRAÇÃO LOCAL DA OBRA | I17: =SUBTOTAL(109,I18:I21) -> 0 | K17: =SUBTOTAL(109,K18:K21) -> 0 | N17: =SUBTOTAL(109,N18:N21) -> 0 | O17: =N17/$N$181 -> #DIV/0!
B18: 1.1 | C18: 93572 | D18: SINAPI | E18: ENCARREGADO GERAL DE OBRAS COM ENCARGOS COMPLEMENTARES | F18: mês | G18: 1 | I18: =ROUND(G18*ROUND(H18, 2), 2) -> 0 | K18: =ROUND(G18*ROUND(J18, 2), 2) -> 0 | L18: =ROUND(H18 + J18, 2) -> 0 | M18: =ROUND(L18*(1+$K$5), 2) -> 0 | N18: =ROUND(G18*ROUND(M18, 2), 2) -> 0 | O18: =N18/$N$181 -> #DIV/0!
B19: 1.2 | C19: 101401 | D19: SINAPI | E19: ELETROTÉCNICO COM ENCARGOS COMPLEMENTARES | F19: mês | G19: 1 | I19: =ROUND(G19*ROUND(H19, 2), 2) -> 0 | K19: =ROUND(G19*ROUND(J19, 2), 2) -> 0 | L19: =ROUND(H19 + J19, 2) -> 0 | M19: =ROUND(L19*(1+$K$5), 2) -> 0 | N19: =ROUND(G19*ROUND(M19, 2), 2) -> 0 | O19: =N19/$N$181 -> #DIV/0!
B20: 1.3 | C20: 100534 | D20: SINAPI | E20: TECNICO DE EDIFICACOES COM ENCARGOS COMPLEMENTARES | F20: mês | G20: 1 | I20: =ROUND(G20*ROUND(H20, 2), 2) -> 0 | K20: =ROUND(G20*ROUND(J20, 2), 2) -> 0 | L20: =ROUND(H20 + J20, 2) -> 0 | M20: =ROUND(L20*(1+$K$5), 2) -> 0 | N20: =ROUND(G20*ROUND(M20, 2), 2) -> 0 | O20: =N20/$N$181 -> #DIV/0!
B21: 1.4 | C21: 0151 | D21: PRÓPRIA | E21: EMISSÃO DE RRT PARA SERVIÇOS. | F21: un | G21: 2 | I21: =ROUND(G21*ROUND(H21, 2), 2) -> 0 | K21: =ROUND(G21*ROUND(J21, 2), 2) -> 0 | L21: =ROUND(H21 + J21, 2) -> 0 | M21: =ROUND(L21*(1+$K$5), 2) -> 0 | N21: =ROUND(G21*ROUND(M21, 2), 2) -> 0 | O21: =N21/$N$181 -> #DIV/0!
B22: 2. | E22: SERVIÇOS INICIAIS | I22: =SUBTOTAL(109,I23:I28) -> 0 | K22: =SUBTOTAL(109,K23:K28) -> 0 | N22: =SUBTOTAL(109,N23:N28) -> 0 | O22: =N22/$N$181 -> #DIV/0!
B23: 2.1 | C23: 103689 | D23: SINAPI | E23: FORNECIMENTO E INSTALAÇÃO DE PLACA DE OBRA COM CHAPA GALVANIZADA E ESTRUTURA DE MADEIRA. AF_03/2022_PS | F23: m² | G23: 2.88 | I23: =ROUND(G23*ROUND(H23, 2), 2) -> 0 | K23: =ROUND(G23*ROUND(J23, 2), 2) -> 0 | L23: =ROUND(H23 + J23, 2) -> 0 | M23: =ROUND(L23*(1+$K$5), 2) -> 0 | N23: =ROUND(G23*ROUND(M23, 2), 2) -> 0 | O23: =N23/$N$181 -> #DIV/0!
B24: 2.2 | C24: 98459 | D24: SINAPI | E24: TAPUME COM TELHA METÁLICA. AF_03/2024 | F24: m² | G24: 48.4 | I24: =ROUND(G24*ROUND(H24, 2), 2) -> 0 | K24: =ROUND(G24*ROUND(J24, 2), 2) -> 0 | L24: =ROUND(H24 + J24, 2) -> 0 | M24: =ROUND(L24*(1+$K$5), 2) -> 0 | N24: =ROUND(G24*ROUND(M24, 2), 2) -> 0 | O24: =N24/$N$181 -> #DIV/0!
B25: 2.3 | C25: 99059 | D25: SINAPI | E25: LOCAÇÃO CONVENCIONAL DE OBRA, UTILIZANDO GABARITO DE TÁBUAS CORRIDAS PONTALETADAS A CADA 2,00M - 2 UTILIZAÇÕES. AF_03/2024 | F25: m | G25: 14.1 | I25: =ROUND(G25*ROUND(H25, 2), 2) -> 0 | K25: =ROUND(G25*ROUND(J25, 2), 2) -> 0 | L25: =ROUND(H25 + J25, 2) -> 0 | M25: =ROUND(L25*(1+$K$5), 2) -> 0 | N25: =ROUND(G25*ROUND(M25, 2), 2) -> 0 | O25: =N25/$N$181 -> #DIV/0!
B26: 2.4 | C26: 0073 | D26: PRÓPRIA | E26: COPIAS DE PROJETOS POR PLOTAGEM ELETRONICA | F26: un | G26: 11 | I26: =ROUND(G26*ROUND(H26, 2), 2) -> 0 | K26: =ROUND(G26*ROUND(J26, 2), 2) -> 0 | L26: =ROUND(H26 + J26, 2) -> 0 | M26: =ROUND(L26*(1+$K$5), 2) -> 0 | N26: =ROUND(G26*ROUND(M26, 2), 2) -> 0 | O26: =N26/$N$181 -> #DIV/0!
B27: 2.5 | C27: 0074 | D27: PRÓPRIA | E27: PROJETO ""AS BUILT"" DE ARQUITETURA | F27: m² | G27: 84 | I27: =ROUND(G27*ROUND(H27, 2), 2) -> 0 | K27: =ROUND(G27*ROUND(J27, 2), 2) -> 0 | L27: =ROUND(H27 + J27, 2) -> 0 | M27: =ROUND(L27*(1+$K$5), 2) -> 0 | N27: =ROUND(G27*ROUND(M27, 2), 2) -> 0 | O27: =N27/$N$181 -> #DIV/0!
B28: 2.6 | C28: 0072 | D28: PRÓPRIA | E28: ALUGUEL MENSAL CONTAINER-ALMOXARIFADO-6,0x2,4m (REF. SBC 012058) | F28: mês | G28: 1 | I28: =ROUND(G28*ROUND(H28, 2), 2) -> 0 | K28: =ROUND(G28*ROUND(J28, 2), 2) -> 0 | L28: =ROUND(H28 + J28, 2) -> 0 | M28: =ROUND(L28*(1+$K$5), 2) -> 0 | N28: =ROUND(G28*ROUND(M28, 2), 2) -> 0 | O28: =N28/$N$181 -> #DIV/0!
B29: 3. | E29: DEMOLIÇÕES E REMOÇÕES | I29: =SUBTOTAL(109,I30:I39) -> 0 | K29: =SUBTOTAL(109,K30:K39) -> 0 | N29: =SUBTOTAL(109,N30:N39) -> 0 | O29: =N29/$N$181 -> #DIV/0!
B30: 3.1 | C30: 98529 | D30: SINAPI | E30: CORTE RASO E RECORTE DE ÁRVORE COM DIÂMETRO DE TRONCO MAIOR OU IGUAL A 0,20 M E MENOR QUE 0,40 M. AF_03/2024 | F30: un | G30: 1 | I30: =ROUND(G30*ROUND(H30, 2), 2) -> 0 | K30: =ROUND(G30*ROUND(J30, 2), 2) -> 0 | L30: =ROUND(H30 + J30, 2) -> 0 | M30: =ROUND(L30*(1+$K$5), 2) -> 0 | N30: =ROUND(G30*ROUND(M30, 2), 2) -> 0 | O30: =N30/$N$181 -> #DIV/0!
B31: 3.2 | C31: 98527 | D31: SINAPI | E31: REMOÇÃO DE RAÍZES REMANESCENTES DE TRONCO DE ÁRVORE COM DIÂMETRO MAIOR OU IGUAL A 0,40 M E MENOR QUE 0,60 M. AF_03/2024 | F31: un | G31: 1 | I31: =ROUND(G31*ROUND(H31, 2), 2) -> 0 | K31: =ROUND(G31*ROUND(J31, 2), 2) -> 0 | L31: =ROUND(H31 + J31, 2) -> 0 | M31: =ROUND(L31*(1+$K$5), 2) -> 0 | N31: =ROUND(G31*ROUND(M31, 2), 2) -> 0 | O31: =N31/$N$181 -> #DIV/0!
B32: 3.3 | C32: 0071 | D32: PRÓPRIA | E32: DEMOLIÇÃO DE PISO DE CONCRETO ARMADO, DE FORMA MANUAL, SEM REAPROVEITAMENTO. | F32: m³ | G32: 0.15 | I32: =ROUND(G32*ROUND(H32, 2), 2) -> 0 | K32: =ROUND(G32*ROUND(J32, 2), 2) -> 0 | L32: =ROUND(H32 + J32, 2) -> 0 | M32: =ROUND(L32*(1+$K$5), 2) -> 0 | N32: =ROUND(G32*ROUND(M32, 2), 2) -> 0 | O32: =N32/$N$181 -> #DIV/0!
B33: 3.4 | C33: 93358 | D33: SINAPI | E33: ESCAVAÇÃO MANUAL DE VALA. AF_09/2024 | F33: m³ | G33: 1.5 | I33: =ROUND(G33*ROUND(H33, 2), 2) -> 0 | K33: =ROUND(G33*ROUND(J33, 2), 2) -> 0 | L33: =ROUND(H33 + J33, 2) -> 0 | M33: =ROUND(L33*(1+$K$5), 2) -> 0 | N33: =ROUND(G33*ROUND(M33, 2), 2) -> 0 | O33: =N33/$N$181 -> #DIV/0!
B34: 3.5 | C34: 97622 | D34: SINAPI | E34: DEMOLIÇÃO DE ALVENARIA DE BLOCO FURADO, DE FORMA MANUAL, SEM REAPROVEITAMENTO. AF_09/2023 | F34: m³ | G34: 0.238875 | I34: =ROUND(G34*ROUND(H34, 2), 2) -> 0 | K34: =ROUND(G34*ROUND(J34, 2), 2) -> 0 | L34: =ROUND(H34 + J34, 2) -> 0 | M34: =ROUND(L34*(1+$K$5), 2) -> 0 | N34: =ROUND(G34*ROUND(M34, 2), 2) -> 0 | O34: =N34/$N$181 -> #DIV/0!
B35: 3.6 | C35: 0070 | D35: PRÓPRIA | E35: RELOCAÇÃO DE LIXEIRA COM EXECUÇÃO DE NOVA BASE EM CONCRETO | F35: un | G35: 1 | I35: =ROUND(G35*ROUND(H35, 2), 2) -> 0 | K35: =ROUND(G35*ROUND(J35, 2), 2) -> 0 | L35: =ROUND(H35 + J35, 2) -> 0 | M35: =ROUND(L35*(1+$K$5), 2) -> 0 | N35: =ROUND(G35*ROUND(M35, 2), 2) -> 0 | O35: =N35/$N$181 -> #DIV/0!
B36: 3.7 | C36: 0076 | D36: PRÓPRIA | E36: Elaboração e implementação do Plano de Gerenciamento de Resíduos Sólidos (PGRS) | F36: un | G36: 1 | I36: =ROUND(G36*ROUND(H36, 2), 2) -> 0 | K36: =ROUND(G36*ROUND(J36, 2), 2) -> 0 | L36: =ROUND(H36 + J36, 2) -> 0 | M36: =ROUND(L36*(1+$K$5), 2) -> 0 | N36: =ROUND(G36*ROUND(M36, 2), 2) -> 0 | O36: =N36/$N$181 -> #DIV/0!
B37: 3.8 | C37: 0077 | D37: PRÓPRIA | E37: Desmontagem e descarte de equipamentos elétricos | F37: un | G37: 1 | I37: =ROUND(G37*ROUND(H37, 2), 2) -> 0 | K37: =ROUND(G37*ROUND(J37, 2), 2) -> 0 | L37: =ROUND(H37 + J37, 2) -> 0 | M37: =ROUND(L37*(1+$K$5), 2) -> 0 | N37: =ROUND(G37*ROUND(M37, 2), 2) -> 0 | O37: =N37/$N$181 -> #DIV/0!
B38: 3.9 | C38: 0078 | D38: PRÓPRIA | E38: REMOÇÃO DE LIXEIRA METÁLICA, INCLUSIVE DESMONTE, DESCHUMBAMENTO, CARGA, TRANSPORTE INTERNO E EMPILHAMENTO DO MATERIAL PARA DESCARTE. | F38: un | G38: 1 | I38: =ROUND(G38*ROUND(H38, 2), 2) -> 0 | K38: =ROUND(G38*ROUND(J38, 2), 2) -> 0 | L38: =ROUND(H38 + J38, 2) -> 0 | M38: =ROUND(L38*(1+$K$5), 2) -> 0 | N38: =ROUND(G38*ROUND(M38, 2), 2) -> 0 | O38: =N38/$N$181 -> #DIV/0!
B39: 3.10 | C39: 0079 | D39: PRÓPRIA | E39: ALUGUEL DE CACAMBA 5m2 48 HORAS COM RETIRADA. (REF. SBC 210500) | F39: un | G39: 2 | I39: =ROUND(G39*ROUND(H39, 2), 2) -> 0 | K39: =ROUND(G39*ROUND(J39, 2), 2) -> 0 | L39: =ROUND(H39 + J39, 2) -> 0 | M39: =ROUND(L39*(1+$K$5), 2) -> 0 | N39: =ROUND(G39*ROUND(M39, 2), 2) -> 0 | O39: =N39/$N$181 -> #DIV/0!
B40: 4. | E40: RECUPERAÇÃO DO ABRIGO DA SUBESTAÇÃO EXISTENTE | I40: =SUBTOTAL(109,I41:I47) -> 0 | K40: =SUBTOTAL(109,K41:K47) -> 0 | N40: =SUBTOTAL(109,N41:N47) -> 0 | O40: =N40/$N$181 -> #DIV/0!
B41: 4.1 | C41: 0080 | D41: PRÓPRIA | E41: LIMPEZA DE SUPERFÍCIE PISO,PAREDE E COBERTURA COM JATO DE ALTA PRESSÃO. AF_10/2025 | F41: m² | G41: 170.2152 | I41: =ROUND(G41*ROUND(H41, 2), 2) -> 0 | K41: =ROUND(G41*ROUND(J41, 2), 2) -> 0 | L41: =ROUND(H41 + J41, 2) -> 0 | M41: =ROUND(L41*(1+$K$5), 2) -> 0 | N41: =ROUND(G41*ROUND(M41, 2), 2) -> 0 | O41: =N41/$N$181 -> #DIV/0!
B42: 4.2 | C42: 0081 | D42: PRÓPRIA | E42: REMOÇÃO DE PINTURA EXISTENTE EM PAREDES E TETOS. | F42: m² | G42: 123.66 | I42: =ROUND(G42*ROUND(H42, 2), 2) -> 0 | K42: =ROUND(G42*ROUND(J42, 2), 2) -> 0 | L42: =ROUND(H42 + J42, 2) -> 0 | M42: =ROUND(L42*(1+$K$5), 2) -> 0 | N42: =ROUND(G42*ROUND(M42, 2), 2) -> 0 | O42: =N42/$N$181 -> #DIV/0!
B43: 4.3 | C43: 0082 | D43: PRÓPRIA | E43: CONTRAPISO LEVE EM ARGAMASSA DE CIMENTO, VERMICULA E AREIA. | F43: m² | G43: 22.23 | I43: =ROUND(G43*ROUND(H43, 2), 2) -> 0 | K43: =ROUND(G43*ROUND(J43, 2), 2) -> 0 | L43: =ROUND(H43 + J43, 2) -> 0 | M43: =ROUND(L43*(1+$K$5), 2) -> 0 | N43: =ROUND(G43*ROUND(M43, 2), 2) -> 0 | O43: =N43/$N$181 -> #DIV/0!
...

Sheet Composições
A1: DADOS
A2: Titulo | B2: ORÇAMENTO
A3: Obra | B3: TRT CRICIUMA
A4: Cliente | B4: TRIBUNAL REGIONAL DO TRABALHO DE SC 12º REG
A5: Cidade | B5: CRICIUMA
A6: Endereço | B6: AVENIDA DR. GETÚLIO VARGAS, Nº 361, CENTRO, CRICIÚMA SC
A7: Descrição | B7: FÓRUM TRABALHISTA DE CRICIÚMA/SC - PADRÃO DE ENTRADA E SUBESTAÇÃO
A8: UF | B8: SC
A11: TABELA DE COMPOSIÇÕES UTILIZADAS
A12: Código | B12: Referência | C12: Tipo | D12: Tipo | E12: Descrição | F12: Unid. | G12: Multiplicador | H12: Preço Material | J12: Preço Execução (MAO + EQP + TRA + TER...) | L12: Preço Mão de obra | N12: Preço Equipamento | P12: Preço Transporte | R12: Preço Terceirizado | T12: Preço Comissionamento | V12: Preço Verba | X12: Outros preços | Z12: Preço | AB12: Ref. Tabela | AC12: Ref. Código | AD12: Justificativa | AE12: Grupo de Serviço | AF12: Serviço
H13: Unitário | I13: Total | J13: Unitário | K13: Total | L13: Unitário | M13: Total | N13: Unitário | O13: Total | P13: Unitário | Q13: Total | R13: Unitário | S13: Total | T13: Unitário | U13: Total | V13: Unitário | W13: Total | X13: Unitário | Y13: Total | Z13: Unitário | AA13: Total
A14: 93572 | B14: SINAPI | D14: Original | E14: ENCARREGADO GERAL DE OBRAS COM ENCARGOS COMPLEMENTARES | F14: mês | I14: =SUM(I15:I21) -> 0 | K14: =SUM(K15:K21) -> 6888.82 | M14: =SUM(M15:M21) -> 6193.33 | O14: =SUM(O15:O21) -> 0 | Q14: =SUM(Q15:Q21) -> 0 | S14: =SUM(S15:S21) -> 0 | U14: =SUM(U15:U21) -> 0 | W14: =SUM(W15:W21) -> 0 | Y14: =SUM(Y15:Y21) -> 695.49 | AA14: =SUM(AA15:AA21) -> 6888.82 | AF14: Livro SINAPI: Cálculos e Parâmetros | AG14: =A14&B14&C14 -> 93572SINAPI
A15: 43499 | B15: SINAPI | C15: INSUMO | D15: Original | E15: EPI - FAMILIA ENCARREGADO GERAL - MENSALISTA (ENCARGOS COMPLEMENTARES - COLETADO CAIXA) | F15: mês | G15: 1 | H15: =IF( C15="INSUMO", IFERROR( IF( INDEX( Insumos!C:C, MATCH( A15&B15, Insumos!I:I, 0) )="Material", INDEX( Insumos!F:F, MATCH( A15&B15, Insumos!I:I, 0) ), 0 ), "Não encontrado"), IFERROR( INDEX(I:I, MATCH( A15&B15,AG:AG, 0) ), "Não encontrado") ) -> 0 | I15: =H15*G15/1 -> 0 | J15: =T15 + N15 + L15 + X15 + R15 + P15 + V15 -> 221.72 | K15: =U15 + O15 + M15 + Y15 + S15 + Q15 + W15 -> 221.72 | L15: =IF( C15="INSUMO", IFERROR( IF( INDEX( Insumos!C:C, MATCH( A15&B15, Insumos!I:I, 0) )="Mao_obra", INDEX( Insumos!F:F, MATCH( A15&B15, Insumos!I:I, 0) ), 0 ), "Não encontrado"), IFERROR( INDEX(M:M, MATCH( A15&B15,AG:AG, 0) ), "Não encontrado") ) -> 0 | M15: =L15*G15/1 -> 0 | N15: =IF( C15="INSUMO", IFERROR( IF( INDEX( Insumos!C:C, MATCH( A15&B15, Insumos!I:I, 0) )="Equipamento", INDEX( Insumos!F:F, MATCH( A15&B15, Insumos!I:I, 0) ), 0 ), "Não encontrado"), IFERROR( INDEX(O:O, MATCH( A15&B15,AG:AG, 0) ), "Não encontrado") ) -> 0 | O15: =N15*G15/1 -> 0 | P15: =IF( C15="INSUMO", IFERROR( IF( INDEX( Insumos!C:C, MATCH( A15&B15, Insumos!I:I, 0) )="Transporte", INDEX( Insumos!F:F, MATCH( A15&B15, Insumos!I:I, 0) ), 0 ), "Não encontrado"), IFERROR( INDEX(Q:Q, MATCH( A15&B15,AG:AG, 0) ), "Não encontrado") ) -> 0 | Q15: =P15*G15/1 -> 0 | R15: =IF( C15="INSUMO", IFERROR( IF( INDEX( Insumos!C:C, MATCH( A15&B15, Insumos!I:I, 0) )="Terceirizados", INDEX( Insumos!F:F, MATCH( A15&B15, Insumos!I:I, 0) ), 0 ), "Não encontrado"), IFERROR( INDEX(S:S, MATCH( A15&B15,AG:AG, 0) ), "Não encontrado") ) -> 0 | S15: =R15*G15/1 -> 0 | T15: =IF( C15="INSUMO", IFERROR( IF( INDEX( Insumos!C:C, MATCH( A15&B15, Insumos!I:I, 0) )="Comissionamento", INDEX( Insumos!F:F, MATCH( A15&B15, Insumos!I:I, 0) ), 0 ), "Não encontrado"), IFERROR( INDEX(U:U, MATCH( A15&B15,AG:AG, 0) ), "Não encontrado") ) -> 0 | U15: =T15*G15/1 -> 0 | V15: =IF( C15="INSUMO", IFERROR( IF( INDEX( Insumos!C:C, MATCH( A15&B15, Insumos!I:I, 0) )="Verba", INDEX( Insumos!F:F, MATCH( A15&B15, Insumos!I:I, 0) ), 0 ), "Não encontrado"), IFERROR( INDEX(W:W, MATCH( A15&B15,AG:AG, 0) ), "Não encontrado") ) -> 0 | W15: =V15*G15/1 -> 0 | X15: =IF( C15="INSUMO", IFERROR( IF( INDEX( Insumos!C:C, MATCH( A15&B15, Insumos!I:I, 0) )="Outro", INDEX( Insumos!F:F, MATCH( A15&B15, Insumos!I:I, 0) ), 0 ), "Não encontrado"), IFERROR( INDEX(Y:Y, MATCH( A15&B15,AG:AG, 0) ), "Não encontrado") ) -> 221.72 | Y15: =X15*G15/1 -> 221.72 | Z15: =IF( C15="INSUMO", IFERROR( INDEX( Insumos!F:F, MATCH( A15&B15, Insumos!I:I, 0) ), "Não encontrado"), IFERROR( INDEX(AA:AA, MATCH( A15&B15,AG:AG, 0) ), "Não encontrado") ) -> 221.72 | AA15: =G15*Z15 -> 221.72
A16: 43475 | B16: SINAPI | C16: INSUMO | D16: Original | E16: FERRAMENTAS - FAMILIA ENCARREGADO GERAL - MENSALISTA (ENCARGOS COMPLEMENTARES - COLETADO CAIXA) | F16: mês | G16: 1 | H16: =IF( C16="INSUMO", IFERROR( IF( INDEX( Insumos!C:C, MATCH( A16&B16, Insumos!I:I, 0) )="Material", INDEX( Insumos!F:F, MATCH( A16&B16, Insumos!I:I, 0) ), 0 ), "Não encontrado"), IFERROR( INDEX(I:I, MATCH( A16&B16,AG:AG, 0) ), "Não encontrado") ) -> 0 | I16: =H16*G16/1 -> 0 | J16: =T16 + N16 + L16 + X16 + R16 + P16 + V16 -> 21.51 | K16: =U16 + O16 + M16 + Y16 + S16 + Q16 + W16 -> 21.51 | L16: =IF( C16="INSUMO", IFERROR( IF( INDEX( Insumos!C:C, MATCH( A16&B16, Insumos!I:I, 0) )="Mao_obra", INDEX( Insumos!F:F, MATCH( A16&B16, Insumos!I:I, 0) ), 0 ), "Não encontrado"), IFERROR( INDEX(M:M, MATCH( A16&B16,AG:AG, 0) ), "Não encontrado") ) -> 0 | M16: =L16*G16/1 -> 0 | N16: =IF( C16="INSUMO", IFERROR( IF( INDEX( Insumos!C:C, MATCH( A16&B16, Insumos!I:I, 0) )="Equipamento", INDEX( Insumos!F:F, MATCH( A16&B16, Insumos!I:I, 0) ), 0 ), "Não encontrado"), IFERROR( INDEX(O:O, MATCH( A16&B16,AG:AG, 0) ), "Não encontrado") ) -> 0 | O16: =N16*G16/1 -> 0 | P16: =IF( C16="INSUMO", IFERROR( IF( INDEX( Insumos!C:C, MATCH( A16&B16, Insumos!I:I, 0) )="Transporte", INDEX( Insumos!F:F, MATCH( A16&B16, Insumos!I:I, 0) ), 0 ), "Não encontrado"), IFERROR( INDEX(Q:Q, MATCH( A16&B16,AG:AG, 0) ), "Não encontrado") ) -> 0 | Q16: =P16*G16/1 -> 0 | R16: =IF( C16="INSUMO", IFERROR( IF( INDEX( Insumos!C:C, MATCH( A16&B16, Insumos!I:I, 0) )="Terceirizados", INDEX( Insumos!F:F, MATCH( A16&B16, Insumos!I:I, 0) ), 0 ), "Não encontrado"), IFERROR( INDEX(S:S, MATCH( A16&B16,AG:AG, 0) ), "Não encontrado") ) -> 0 | S16: =R16*G16/1 -> 0 | T16: =IF( C16="INSUMO", IFERROR( IF( INDEX( Insumos!C:C, MATCH( A16&B16, Insumos!I:I, 0) )="Comissionamento", INDEX( Insumos!F:F, MATCH( A16&B16, Insumos!I:I, 0) ), 0 ), "Não encontrado"), IFERROR( INDEX(U:U, MATCH( A16&B16,AG:AG, 0) ), "Não encontrado") ) -> 0 | U16: =T16*G16/1 -> 0 | V16: =IF( C16="INSUMO", IFERROR( IF( INDEX( Insumos!C:C, MATCH( A16&B16, Insumos!I:I, 0) )="Verba", INDEX( Insumos!F:F, MATCH( A16&B16, Insumos!I:I, 0) ), 0 ), "Não encontrado"), IFERROR( INDEX(W:W, MATCH( A16&B16,AG:AG, 0) ), "Não encontrado") ) -> 0 | W16: =V16*G16/1 -> 0 | X16: =IF( C16="INSUMO", IFERROR( IF( INDEX( Insumos!C:C, MATCH( A16&B16, Insumos!I:I, 0) )="Outro", INDEX( Insumos!F:F, MATCH( A16&B16, Insumos!I:I, 0) ), 0 ), "Não encontrado"), IFERROR( INDEX(Y:Y, MATCH( A16&B16,AG:AG, 0) ), "Não encontrado") ) -> 21.51 | Y16: =X16*G16/1 -> 21.51 | Z16: =IF( C16="INSUMO", IFERROR( INDEX( Insumos!F:F, MATCH( A16&B16, Insumos!I:I, 0) ), "Não encontrado"), IFERROR( INDEX(AA:AA, MATCH( A16&B16,AG:AG, 0) ), "Não encontrado") ) -> 21.51 | AA16: =G16*Z16 -> 21.51
A17: 40864 | B17: SINAPI | C17: INSUMO | D17: Original | E17: SEGURO - MENSALISTA (COLETADO CAIXA - ENCARGOS COMPLEMENTARES) | F17: mês | G17: 1 | H17: =IF( C17="INSUMO", IFERROR( IF( INDEX( Insumos!C:C, MATCH( A17&B17, Insumos!I:I, 0) )="Material", INDEX( Insumos!F:F, MATCH( A17&B17, Insumos!I:I, 0) ), 0 ), "Não encontrado"), IFERROR( INDEX(I:I, MATCH( A17&B17,AG:AG, 0) ), "Não encontrado") ) -> 0 | I17: =H17*G17/1 -> 0 | J17: =T17 + N17 + L17 + X17 + R17 + P17 + V17 -> 18.28 | K17: =U17 + O17 + M17 + Y17 + S17 + Q17 + W17 -> 18.28 | L17: =IF( C17="INSUMO", IFERROR( IF( INDEX( Insumos!C:C, MATCH( A17&B17, Insumos!I:I, 0) )="Mao_obra", INDEX( Insumos!F:F, MATCH( A17&B17, Insumos!I:I, 0) ), 0 ), "Não encontrado"), IFERROR( INDEX(M:M, MATCH( A17&B17,AG:AG, 0) ), "Não encontrado") ) -> 0 | M17: =L17*G17/1 -> 0 | N17: =IF( C17="INSUMO", IFERROR( IF( INDEX( Insumos!C:C, MATCH( A17&B17, Insumos!I:I, 0) )="Equipamento", INDEX( Insumos!F:F, MATCH( A17&B17, Insumos!I:I, 0) ), 0 ), "Não encontrado"), IFERROR( INDEX(O:O, MATCH( A17&B17,AG:AG, 0) ), "Não encontrado") ) -> 0 | O17: =N17*G17/1 -> 0 | P17: =IF( C17="INSUMO", IFERROR( IF( INDEX( Insumos!C:C, MATCH( A17&B17, Insumos!I:I, 0) )="Transporte", INDEX( Insumos!F:F, MATCH( A17&B17, Insumos!I:I, 0) ), 0 ), "Não encontrado"), IFERROR( INDEX(Q:Q, MATCH( A17&B17,AG:AG, 0) ), "Não encontrado") ) -> 0 | Q17: =P17*G17/1 -> 0 | R17: =IF( C17="INSUMO", IFERROR( IF( INDEX( Insumos!C:C, MATCH( A17&B17, Insumos!I:I, 0) )="Terceirizados", INDEX( Insumos!F:F, MATCH( A17&B17, Insumos!I:I, 0) ), 0 ), "Não encontrado"), IFERROR( INDEX(S:S, MATCH( A17&B17,AG:AG, 0) ), "Não encontrado") ) -> 0 | S17: =R17*G17/1 -> 0 | T17: =IF( C17="INSUMO", IFERROR( IF( INDEX( Insumos!C:C, MATCH( A17&B17, Insumos!I:I, 0) )="Comissionamento", INDEX( Insumos!F:F, MATCH( A17&B17, Insumos!I:I, 0) ), 0 ), "Não encontrado"), IFERROR( INDEX(U:U, MATCH( A17&B17,AG:AG, 0) ), "Não encontrado") ) -> 0 | U17: =T17*G17/1 -> 0 | V17: =IF( C17="INSUMO", IFERROR( IF( INDEX( Insumos!C:C, MATCH( A17&B17, Insumos!I:I, 0) )="Verba", INDEX( Insumos!F:F, MATCH( A17&B17, Insumos!I:I, 0) ), 0 ), "Não encontrado"), IFERROR( INDEX(W:W, MATCH( A17&B17,AG:AG, 0) ), "Não encontrado") ) -> 0 | W17: =V17*G17/1 -> 0 | X17: =IF( C17="INSUMO", IFERROR( IF( INDEX( Insumos!C:C, MATCH( A17&B17, Insumos!I:I, 0) )="Outro", INDEX( Insumos!F:F, MATCH( A17&B17, Insumos!I:I, 0) ), 0 ), "Não encontrado"), IFERROR( INDEX(Y:Y, MATCH( A17&B17,AG:AG, 0) ), "Não encontrado") ) -> 18.28 | Y17: =X17*G17/1 -> 18.28 | Z17: =IF( C17="INSUMO", IFERROR( INDEX( Insumos!F:F, MATCH( A17&B17, Insumos!I:I, 0) ), "Não encontrado"), IFERROR( INDEX(AA:AA, MATCH( A17&B17,AG:AG, 0) ), "Não encontrado") ) -> 18.28 | AA17: =G17*Z17 -> 18.28
A18: 40863 | B18: SINAPI | C18: INSUMO | D18: Original | E18: EXAMES - MENSALISTA (COLETADO CAIXA - ENCARGOS COMPLEMENTARES) | F18: mês | G18: 1 | H18: =IF( C18="INSUMO", IFERROR( IF( INDEX( Insumos!C:C, MATCH( A18&B18, Insumos!I:I, 0) )="Material", INDEX( Insumos!F:F, MATCH( A18&B18, Insumos!I:I, 0) ), 0 ), "Não encontrado"), IFERROR( INDEX(I:I, MATCH( A18&B18,AG:AG, 0) ), "Não encontrado") ) -> 0 | I18: =H18*G18/1 -> 0 | J18: =T18 + N18 + L18 + X18 + R18 + P18 + V18 -> 271.75 | K18: =U18 + O18 + M18 + Y18 + S18 + Q18 + W18 -> 271.75 | L18: =IF( C18="INSUMO", IFERROR( IF( INDEX( Insumos!C:C, MATCH( A18&B18, Insumos!I:I, 0) )="Mao_obra", INDEX( Insumos!F:F, MATCH( A18&B18, Insumos!I:I, 0) ), 0 ), "Não encontrado"), IFERROR( INDEX(M:M, MATCH( A18&B18,AG:AG, 0) ), "Não encontrado") ) -> 0 | M18: =L18*G18/1 -> 0 | N18: =IF( C18="INSUMO", IFERROR( IF( INDEX( Insumos!C:C, MATCH( A18&B18, Insumos!I:I, 0) )="Equipamento", INDEX( Insumos!F:F, MATCH( A18&B18, Insumos!I:I, 0) ), 0 ), "Não encontrado"), IFERROR( INDEX(O:O, MATCH( A18&B18,AG:AG, 0) ), "Não encontrado") ) -> 0 | O18: =N18*G18/1 -> 0 | P18: =IF( C18="INSUMO", IFERROR( IF( INDEX( Insumos!C:C, MATCH( A18&B18, Insumos!I:I, 0) )="Transporte", INDEX( Insumos!F:F, MATCH( A18&B18, Insumos!I:I, 0) ), 0 ), "Não encontrado"), IFERROR( INDEX(Q:Q, MATCH( A18&B18,AG:AG, 0) ), "Não encontrado") ) -> 0 | Q18: =P18*G18/1 -> 0 | R18: =IF( C18="INSUMO", IFERROR( IF( INDEX( Insumos!C:C, MATCH( A18&B18, Insumos!I:I, 0) )="Terceirizados", INDEX( Insumos!F:F, MATCH( A18&B18, Insumos!I:I, 0) ), 0 ), "Não encontrado"), IFERROR( INDEX(S:S, MATCH( A18&B18,AG:AG, 0) ), "Não encontrado") ) -> 0 | S18: =R18*G18/1 -> 0 | T18: =IF( C18="INSUMO", IFERROR( IF( INDEX( Insumos!C:C, MATCH( A18&B18, Insumos!I:I, 0) )="Comissionamento", INDEX( Insumos!F:F, MATCH( A18&B18, Insumos!I:I, 0) ), 0 ), "Não encontrado"), IFERROR( INDEX(U:U, MATCH( A18&B18,AG:AG, 0) ), "Não encontrado") ) -> 0 | U18: =T18*G18/1 -> 0 | V18: =IF( C18="INSUMO", IFERROR( IF( INDEX( Insumos!C:C, MATCH( A18&B18, Insumos!I:I, 0) )="Verba", INDEX( Insumos!F:F, MATCH( A18&B18, Insumos!I:I, 0) ), 0 ), "Não encontrado"), IFERROR( INDEX(W:W, MATCH( A18&B18,AG:AG, 0) ), "Não encontrado") ) -> 0 | W18: =V18*G18/1 -> 0 | X18: =IF( C18="INSUMO", IFERROR( IF( INDEX( Insumos!C:C, MATCH( A18&B18, Insumos!I:I, 0) )="Outro", INDEX( Insumos!F:F, MATCH( A18&B18, Insumos!I:I, 0) ), 0 ), "Não encontrado"), IFERROR( INDEX(Y:Y, MATCH( A18&B18,AG:AG, 0) ), "Não encontrado") ) -> 271.75 | Y18: =X18*G18/1 -> 271.75 | Z18: =IF( C18="INSUMO", IFERROR( INDEX( Insumos!F:F, MATCH( A18&B18, Insumos!I:I, 0) ), "Não encontrado"), IFERROR( INDEX(AA:AA, MATCH( A18&B18,AG:AG, 0) ), "Não encontrado") ) -> 271.75 | AA18: =G18*Z18 -> 271.75
A19: 40862 | B19: SINAPI | C19: INSUMO | D19: Original | E19: ALIMENTACAO - MENSALISTA (COLETADO CAIXA - ENCARGOS COMPLEMENTARES) | F19: mês | G19: 1 | H19: =IF( C19="INSUMO", IFERROR( IF( INDEX( Insumos!C:C, MATCH( A19&B19, Insumos!I:I, 0) )="Material", INDEX( Insumos!F:F, MATCH( A19&B19, Insumos!I:I, 0) ), 0 ), "Não encontrado"), IFERROR( INDEX(I:I, MATCH( A19&B19,AG:AG, 0) ), "Não encontrado") ) -> 0 | I19: =H19*G19/1 -> 0 | J19: =T19 + N19 + L19 + X19 + R19 + P19 + V19 -> 0.01 | K19: =U19 + O19 + M19 + Y19 + S19 + Q19 + W19 -> 0.01 | L19: =IF( C19="INSUMO", IFERROR( IF( INDEX( Insumos!C:C, MATCH( A19&B19, Insumos!I:I, 0) )="Mao_obra", INDEX( Insumos!F:F, MATCH( A19&B19, Insumos!I:I, 0) ), 0 ), "Não encontrado"), IFERROR( INDEX(M:M, MATCH( A19&B19,AG:AG, 0) ), "Não encontrado") ) -> 0 | M19: =L19*G19/1 -> 0 | N19: =IF( C19="INSUMO", IFERROR( IF( INDEX( Insumos!C:C, MATCH( A19&B19, Insumos!I:I, 0) )="Equipamento", INDEX( Insumos!F:F, MATCH( A19&B19, Insumos!I:I, 0) ), 0 ), "Não encontrado"), IFERROR( INDEX(O:O, MATCH( A19&B19,AG:AG, 0) ), "Não encontrado") ) -> 0 | O19: =N19*G19/1 -> 0 | P19: =IF( C19="INSUMO", IFERROR( IF( INDEX( Insumos!C:C, MATCH( A19&B19, Insumos!I:I, 0) )="Transporte", INDEX( Insumos!F:F, MATCH( A19&B19, Insumos!I:I, 0) ), 0 ), "Não encontrado"), IFERROR( INDEX(Q:Q, MATCH( A19&B19,AG:AG, 0) ), "Não encontrado") ) -> 0 | Q19: =P19*G19/1 -> 0 | R19: =IF( C19="INSUMO", IFERROR( IF( INDEX( Insumos!C:C, MATCH( A19&B19, Insumos!I:I, 0) )="Terceirizados", INDEX( Insumos!F:F, MATCH( A19&B19, Insumos!I:I, 0) ), 0 ), "Não encontrado"), IFERROR( INDEX(S:S, MATCH( A19&B19,AG:AG, 0) ), "Não encontrado") ) -> 0 | S19: =R19*G19/1 -> 0 | T19: =IF( C19="INSUMO", IFERROR( IF( INDEX( Insumos!C:C, MATCH( A19&B19, Insumos!I:I, 0) )="Comissionamento", INDEX( Insumos!F:F, MATCH( A19&B19, Insumos!I:I, 0) ), 0 ), "Não encontrado"), IFERROR( INDEX(U:U, MATCH( A19&B19,AG:AG, 0) ), "Não encontrado") ) -> 0 | U19: =T19*G19/1 -> 0 | V19: =IF( C19="INSUMO", IFERROR( IF( INDEX( Insumos!C:C, MATCH( A19&B19, Insumos!I:I, 0) )="Verba", INDEX( Insumos!F:F, MATCH( A19&B19, Insumos!I:I, 0) ), 0 ), "Não encontrado"), IFERROR( INDEX(W:W, MATCH( A19&B19,AG:AG, 0) ), "Não encontrado") ) -> 0 | W19: =V19*G19/1 -> 0 | X19: =IF( C19="INSUMO", IFERROR( IF( INDEX( Insumos!C:C, MATCH( A19&B19, Insumos!I:I, 0) )="Outro", INDEX( Insumos!F:F, MATCH( A19&B19, Insumos!I:I, 0) ), 0 ), "Não encontrado"), IFERROR( INDEX(Y:Y, MATCH( A19&B19,AG:AG, 0) ), "Não encontrado") ) -> 0.01 | Y19: =X19*G19/1 -> 0.01 | Z19: =IF( C19="INSUMO", IFERROR( INDEX( Insumos!F:F, MATCH( A19&B19, Insumos!I:I, 0) ), "Não encontrado"), IFERROR( INDEX(AA:AA, MATCH( A19&B19,AG:AG, 0) ), "Não encontrado") ) -> 0.01 | AA19: =G19*Z19 -> 0.01
A20: 40861 | B20: SINAPI | C20: INSUMO | D20: Original | E20: TRANSPORTE - MENSALISTA (COLETADO CAIXA - ENCARGOS COMPLEMENTARES) | F20: mês | G20: 1 | H20: =IF( C20="INSUMO", IFERROR( IF( INDEX( Insumos!C:C, MATCH( A20&B20, Insumos!I:I, 0) )="Material", INDEX( Insumos!F:F, MATCH( A20&B20, Insumos!I:I, 0) ), 0 ), "Não encontrado"), IFERROR( INDEX(I:I, MATCH( A20&B20,AG:AG, 0) ), "Não encontrado") ) -> 0 | I20: =H20*G20/1 -> 0 | J20: =T20 + N20 + L20 + X20 + R20 + P20 + V20 -> 162.22 | K20: =U20 + O20 + M20 + Y20 + S20 + Q20 + W20 -> 162.22 | L20: =IF( C20="INSUMO", IFERROR( IF( INDEX( Insumos!C:C, MATCH( A20&B20, Insumos!I:I, 0) )="Mao_obra", INDEX( Insumos!F:F, MATCH( A20&B20, Insumos!I:I, 0) ), 0 ), "Não encontrado"), IFERROR( INDEX(M:M, MATCH( A20&B20,AG:AG, 0) ), "Não encontrado") ) -> 0 | M20: =L20*G20/1 -> 0 | N20: =IF( C20="INSUMO", IFERROR( IF( INDEX( Insumos!C:C, MATCH( A20&B20, Insumos!I:I, 0) )="Equipamento", INDEX( Insumos!F:F, MATCH( A20&B20, Insumos!I:I, 0) ), 0 ), "Não encontrado"), IFERROR( INDEX(O:O, MATCH( A20&B20,AG:AG, 0) ), "Não encontrado") ) -> 0 | O20: =N20*G20/1 -> 0 | P20: =IF( C20="INSUMO", IFERROR( IF( INDEX( Insumos!C:C, MATCH( A20&B20, Insumos!I:I, 0) )="Transporte", INDEX( Insumos!F:F, MATCH( A20&B20, Insumos!I:I, 0) ), 0 ), "Não encontrado"), IFERROR( INDEX(Q:Q, MATCH( A20&B20,AG:AG, 0) ), "Não encontrado") ) -> 0 | Q20: =P20*G20/1 -> 0 | R20: =IF( C20="INSUMO", IFERROR( IF( INDEX( Insumos!C:C, MATCH( A20&B20, Insumos!I:I, 0) )="Terceirizados", INDEX( Insumos!F:F, MATCH( A20&B20, Insumos!I:I, 0) ), 0 ), "Não encontrado"), IFERROR( INDEX(S:S, MATCH( A20&B20,AG:AG, 0) ), "Não encontrado") ) -> 0 | S20: =R20*G20/1 -> 0 | T20: =IF( C20="INSUMO", IFERROR( IF( INDEX( Insumos!C:C, MATCH( A20&B20, Insumos!I:I, 0) )="Comissionamento", INDEX( Insumos!F:F, MATCH( A20&B20, Insumos!I:I, 0) ), 0 ), "Não encontrado"), IFERROR( INDEX(U:U, MATCH( A20&B20,AG:AG, 0) ), "Não encontrado") ) -> 0 | U20: =T20*G20/1 -> 0 | V20: =IF( C20="INSUMO", IFERROR( IF( INDEX( Insumos!C:C, MATCH( A20&B20, Insumos!I:I, 0) )="Verba", INDEX( Insumos!F:F, MATCH( A20&B20, Insumos!I:I, 0) ), 0 ), "Não encontrado"), IFERROR( INDEX(W:W, MATCH( A20&B20,AG:AG, 0) ), "Não encontrado") ) -> 0 | W20: =V20*G20/1 -> 0 | X20: =IF( C20="INSUMO", IFERROR( IF( INDEX( Insumos!C:C, MATCH( A20&B20, Insumos!I:I, 0) )="Outro", INDEX( Insumos!F:F, MATCH( A20&B20, Insumos!I:I, 0) ), 0 ), "Não encontrado"), IFERROR( INDEX(Y:Y, MATCH( A20&B20,AG:AG, 0) ), "Não encontrado") ) -> 162.22 | Y20: =X20*G20/1 -> 162.22 | Z20: =IF( C20="INSUMO", IFERROR( INDEX( Insumos!F:F, MATCH( A20&B20, Insumos!I:I, 0) ), "Não encontrado"), IFERROR( INDEX(AA:AA, MATCH( A20&B20,AG:AG, 0) ), "Não encontrado") ) -> 162.22 | AA20: =G20*Z20 -> 162.22
A21: 40818 | B21: SINAPI | C21: INSUMO | D21: Original | E21: ENCARREGADO GERAL DE OBRAS (MENSALISTA) | F21: mês | G21: 1 | H21: =IF( C21="INSUMO", IFERROR( IF( INDEX( Insumos!C:C, MATCH( A21&B21, Insumos!I:I, 0) )="Material", INDEX( Insumos!F:F, MATCH( A21&B21, Insumos!I:I, 0) ), 0 ), "Não encontrado"), IFERROR( INDEX(I:I, MATCH( A21&B21,AG:AG, 0) ), "Não encontrado") ) -> 0 | I21: =H21*G21/1 -> 0 | J21: =T21 + N21 + L21 + X21 + R21 + P21 + V21 -> 6193.33 | K21: =U21 + O21 + M21 + Y21 + S21 + Q21 + W21 -> 6193.33 | L21: =IF( C21="INSUMO", IFERROR( IF( INDEX( Insumos!C:C, MATCH( A21&B21, Insumos!I:I, 0) )="Mao_obra", INDEX( Insumos!F:F, MATCH( A21&B21, Insumos!I:I, 0) ), 0 ), "Não encontrado"), IFERROR( INDEX(M:M, MATCH( A21&B21,AG:AG, 0) ), "Não encontrado") ) -> 6193.33 | M21: =L21*G21/1 -> 6193.33 | N21: =IF( C21="INSUMO", IFERROR( IF( INDEX( Insumos!C:C, MATCH( A21&B21, Insumos!I:I, 0) )="Equipamento", INDEX( Insumos!F:F, MATCH( A21&B21, Insumos!I:I, 0) ), 0 ), "Não encontrado"), IFERROR( INDEX(O:O, MATCH( A21&B21,AG:AG, 0) ), "Não encontrado") ) -> 0 | O21: =N21*G21/1 -> 0 | P21: =IF( C21="INSUMO", IFERROR( IF( INDEX( Insumos!C:C, MATCH( A21&B21, Insumos!I:I, 0) )="Transporte", INDEX( Insumos!F:F, MATCH( A21&B21, Insumos!I:I, 0) ), 0 ), "Não encontrado"), IFERROR( INDEX(Q:Q, MATCH( A21&B21,AG:AG, 0) ), "Não encontrado") ) -> 0 | Q21: =P21*G21/1 -> 0 | R21: =IF( C21="INSUMO", IFERROR( IF( INDEX( Insumos!C:C, MATCH( A21&B21, Insumos!I:I, 0) )="Terceirizados", INDEX( Insumos!F:F, MATCH( A21&B21, Insumos!I:I, 0) ), 0 ), "Não encontrado"), IFERROR( INDEX(S:S, MATCH( A21&B21,AG:AG, 0) ), "Não encontrado") ) -> 0 | S21: =R21*G21/1 -> 0 | T21: =IF( C21="INSUMO", IFERROR( IF( INDEX( Insumos!C:C, MATCH( A21&B21, Insumos!I:I, 0) )="Comissionamento", INDEX( Insumos!F:F, MATCH( A21&B21, Insumos!I:I, 0) ), 0 ), "Não encontrado"), IFERROR( INDEX(U:U, MATCH( A21&B21,AG:AG, 0) ), "Não encontrado") ) -> 0 | U21: =T21*G21/1 -> 0 | V21: =IF( C21="INSUMO", IFERROR( IF( INDEX( Insumos!C:C, MATCH( A21&B21, Insumos!I:I, 0) )="Verba", INDEX( Insumos!F:F, MATCH( A21&B21, Insumos!I:I, 0) ), 0 ), "Não encontrado"), IFERROR( INDEX(W:W, MATCH( A21&B21,AG:AG, 0) ), "Não encontrado") ) -> 0 | W21: =V21*G21/1 -> 0 | X21: =IF( C21="INSUMO", IFERROR( IF( INDEX( Insumos!C:C, MATCH( A21&B21, Insumos!I:I, 0) )="Outro", INDEX( Insumos!F:F, MATCH( A21&B21, Insumos!I:I, 0) ), 0 ), "Não encontrado"), IFERROR( INDEX(Y:Y, MATCH( A21&B21,AG:AG, 0) ), "Não encontrado") ) -> 0 | Y21: =X21*G21/1 -> 0 | Z21: =IF( C21="INSUMO", IFERROR( INDEX( Insumos!F:F, MATCH( A21&B21, Insumos!I:I, 0) ), "Não encontrado"), IFERROR( INDEX(AA:AA, MATCH( A21&B21,AG:AG, 0) ), "Não encontrado") ) -> 6193.33 | AA21: =G21*Z21 -> 6193.33
A22: 101401 | B22: SINAPI | D22: Original | E22: ELETROTÉCNICO COM ENCARGOS COMPLEMENTARES | F22: mês | H22: 0 | I22: =SUM(I23:I29) -> 0 | K22: =SUM(K23:K29) -> 8731.37 | M22: =SUM(M23:M29) -> 7890.67 | O22: =SUM(O23:O29) -> 0 | Q22: =SUM(Q23:Q29) -> 0 | S22: =SUM(S23:S29) -> 0 | U22: =SUM(U23:U29) -> 0 | W22: =SUM(W23:W29) -> 0 | Y22: =SUM(Y23:Y29) -> 840.7 | AA22: =SUM(AA23:AA29) -> 8731.37 | AF22: Livro SINAPI: Cálculos e Parâmetros | AG22: =A22&B22&C22 -> 101401SINAPI
A23: 43496 | B23: SINAPI | C23: INSUMO | D23: Original | E23: EPI - FAMILIA ELETRICISTA - MENSALISTA (ENCARGOS COMPLEMENTARES - COLETADO CAIXA) | F23: mês | G23: 1 | H23: =IF( C23="INSUMO", IFERROR( IF( INDEX( Insumos!C:C, MATCH( A23&B23, Insumos!I:I, 0) )="Material", INDEX( Insumos!F:F, MATCH( A23&B23, Insumos!I:I, 0) ), 0 ), "Não encontrado"), IFERROR( INDEX(I:I, MATCH( A23&B23,AG:AG, 0) ), "Não encontrado") ) -> 0 | I23: =H23*G23/1 -> 0 | J23: =T23 + N23 + L23 + X23 + R23 + P23 + V23 -> 239.85 | K23: =U23 + O23 + M23 + Y23 + S23 + Q23 + W23 -> 239.85 | L23: =IF( C23="INSUMO", IFERROR( IF( INDEX( Insumos!C:C, MATCH( A23&B23, Insumos!I:I, 0) )="Mao_obra", INDEX( Insumos!F:F, MATCH( A23&B23, Insumos!I:I, 0) ), 0 ), "Não encontrado"), IFERROR( INDEX(M:M, MATCH( A23&B23,AG:AG, 0) ), "Não encontrado") ) -> 0 | M23: =L23*G23/1 -> 0 | N23: =IF( C23="INSUMO", IFERROR( IF( INDEX( Insumos!C:C, MATCH( A23&B23, Insumos!I:I, 0) )="Equipamento", INDEX( Insumos!F:F, MATCH( A23&B23, Insumos!I:I, 0) ), 0 ), "Não encontrado"), IFERROR( INDEX(O:O, MATCH( A23&B23,AG:AG, 0) ), "Não encontrado") ) -> 0 | O23: =N23*G23/1 -> 0 | P23: =IF( C23="INSUMO", IFERROR( IF( INDEX( Insumos!C:C, MATCH( A23&B23, Insumos!I:I, 0) )="Transporte", INDEX( Insumos!F:F, MATCH( A23&B23, Insumos!I:I, 0) ), 0 ), "Não encontrado"), IFERROR( INDEX(Q:Q, MATCH( A23&B23,AG:AG, 0) ), "Não encontrado") ) -> 0 | Q23: =P23*G23/1 -> 0 | R23: =IF( C23="INSUMO", IFERROR( IF( INDEX( Insumos!C:C, MATCH( A23&B23, Insumos!I:I, 0) )="Terceirizados", INDEX( Insumos!F:F, MATCH( A23&B23, Insumos!I:I, 0) ), 0 ), "Não encontrado"), IFERROR( INDEX(S:S, MATCH( A23&B23,AG:AG, 0) ), "Não encontrado") ) -> 0 | S23: =R23*G23/1 -> 0 | T23: =IF( C23="INSUMO", IFERROR( IF( INDEX( Insumos!C:C, MATCH( A23&B23, Insumos!I:I, 0) )="Comissionamento", INDEX( Insumos!F:F, MATCH( A23&B23, Insumos!I:I, 0) ), 0 ), "Não encontrado"), IFERROR( INDEX(U:U, MATCH( A23&B23,AG:AG, 0) ), "Não encontrado") ) -> 0 | U23: =T23*G23/1 -> 0 | V23: =IF( C23="INSUMO", IFERROR( IF( INDEX( Insumos!C:C, MATCH( A23&B23, Insumos!I:I, 0) )="Verba", INDEX( Insumos!F:F, MATCH( A23&B23, Insumos!I:I, 0) ), 0 ), "Não encontrado"), IFERROR( INDEX(W:W, MATCH( A23&B23,AG:AG, 0) ), "Não encontrado") ) -> 0 | W23: =V23*G23/1 -> 0 | X23: =IF( C23="INSUMO", IFERROR( IF( INDEX( Insumos!C:C, MATCH( A23&B23, Insumos!I:I, 0) )="Outro", INDEX( Insumos!F:F, MATCH( A23&B23, Insumos!I:I, 0) ), 0 ), "Não encontrado"), IFERROR( INDEX(Y:Y, MATCH( A23&B23,AG:AG, 0) ), "Não encontrado") ) -> 239.85 | Y23: =X23*G23/1 -> 239.85 | Z23: =IF( C23="INSUMO", IFERROR( INDEX( Insumos!F:F, MATCH( A23&B23, Insumos!I:I, 0) ), "Não encontrado"), IFERROR( INDEX(AA:AA, MATCH( A23&B23,AG:AG, 0) ), "Não encontrado") ) -> 239.85 | AA23: =G23*Z23 -> 239.85
A24: 43472 | B24: SINAPI | C24: INSUMO | D24: Original | E24: FERRAMENTAS - FAMILIA ELETRICISTA - MENSALISTA (ENCARGOS COMPLEMENTARES - COLETADO CAIXA) | F24: mês | G24: 1 | H24: =IF( C24="INSUMO", IFERROR( IF( INDEX( Insumos!C:C, MATCH( A24&B24, Insumos!I:I, 0) )="Material", INDEX( Insumos!F:F, MATCH( A24&B24, Insumos!I:I, 0) ), 0 ), "Não encontrado"), IFERROR( INDEX(I:I, MATCH( A24&B24,AG:AG, 0) ), "Não encontrado") ) -> 0 | I24: =H24*G24/1 -> 0 | J24: =T24 + N24 + L24 + X24 + R24 + P24 + V24 -> 148.59 | K24: =U24 + O24 + M24 + Y24 + S24 + Q24 + W24 -> 148.59 | L24: =IF( C24="INSUMO", IFERROR( IF( INDEX( Insumos!C:C, MATCH( A24&B24, Insumos!I:I, 0) )="Mao_obra", INDEX( Insumos!F:F, MATCH( A24&B24, Insumos!I:I, 0) ), 0 ), "Não encontrado"), IFERROR( INDEX(M:M, MATCH( A24&B24,AG:AG, 0) ), "Não encontrado") ) -> 0 | M24: =L24*G24/1 -> 0 | N24: =IF( C24="INSUMO", IFERROR( IF( INDEX( Insumos!C:C, MATCH( A24&B24, Insumos!I:I, 0) )="Equipamento", INDEX( Insumos!F:F, MATCH( A24&B24, Insumos!I:I, 0) ), 0 ), "Não encontrado"), IFERROR( INDEX(O:O, MATCH( A24&B24,AG:AG, 0) ), "Não encontrado") ) -> 0 | O24: =N24*G24/1 -> 0 | P24: =IF( C24="INSUMO", IFERROR( IF( INDEX( Insumos!C:C, MATCH( A24&B24, Insumos!I:I, 0) )="Transporte", INDEX( Insumos!F:F, MATCH( A24&B24, Insumos!I:I, 0) ), 0 ), "Não encontrado"), IFERROR( INDEX(Q:Q, MATCH( A24&B24,AG:AG, 0) ), "Não encontrado") ) -> 0 | Q24: =P24*G24/1 -> 0 | R24: =IF( C24="INSUMO", IFERROR( IF( INDEX( Insumos!C:C, MATCH( A24&B24, Insumos!I:I, 0) )="Terceirizados", INDEX( Insumos!F:F, MATCH( A24&B24, Insumos!I:I, 0) ), 0 ), "Não encontrado"), IFERROR( INDEX(S:S, MATCH( A24&B24,AG:AG, 0) ), "Não encontrado") ) -> 0 | S24: =R24*G24/1 -> 0 | T24: =IF( C24="INSUMO", IFERROR( IF( INDEX( Insumos!C:C, MATCH( A24&B24, Insumos!I:I, 0) )="Comissionamento", INDEX( Insumos!F:F, MATCH( A24&B24, Insumos!I:I, 0) ), 0 ), "Não encontrado"), IFERROR( INDEX(U:U, MATCH( A24&B24,AG:AG, 0) ), "Não encontrado") ) -> 0 | U24: =T24*G24/1 -> 0 | V24: =IF( C24="INSUMO", IFERROR( IF( INDEX( Insumos!C:C, MATCH( A24&B24, Insumos!I:I, 0) )="Verba", INDEX( Insumos!F:F, MATCH( A24&B24, Insumos!I:I, 0) ), 0 ), "Não encontrado"), IFERROR( INDEX(W:W, MATCH( A24&B24,AG:AG, 0) ), "Não encontrado") ) -> 0 | W24: =V24*G24/1 -> 0 | X24: =IF( C24="INSUMO", IFERROR( IF( INDEX( Insumos!C:C, MATCH( A24&B24, Insumos!I:I, 0) )="Outro", INDEX( Insumos!F:F, MATCH( A24&B24, Insumos!I:I, 0) ), 0 ), "Não encontrado"), IFERROR( INDEX(Y:Y, MATCH( A24&B24,AG:AG, 0) ), "Não encontrado") ) -> 148.59 | Y24: =X24*G24/1 -> 148.59 | Z24: =IF( C24="INSUMO", IFERROR( INDEX( Insumos!F:F, MATCH( A24&B24, Insumos!I:I, 0) ), "Não encontrado"), IFERROR( INDEX(AA:AA, MATCH( A24&B24,AG:AG, 0) ), "Não encontrado") ) -> 148.59 | AA24: =G24*Z24 -> 148.59
A25: 40922 | B25: SINAPI | C25: INSUMO | D25: Original | E25: ELETROTECNICO (MENSALISTA) | F25: mês | G25: 1 | H25: =IF( C25="INSUMO", IFERROR( IF( INDEX( Insumos!C:C, MATCH( A25&B25, Insumos!I:I, 0) )="Material", INDEX( Insumos!F:F, MATCH( A25&B25, Insumos!I:I, 0) ), 0 ), "Não encontrado"), IFERROR( INDEX(I:I, MATCH( A25&B25,AG:AG, 0) ), "Não encontrado") ) -> 0 | I25: =H25*G25/1 -> 0 | J25: =T25 + N25 + L25 + X25 + R25 + P25 + V25 -> 7890.67 | K25: =U25 + O25 + M25 + Y25 + S25 + Q25 + W25 -> 7890.67 | L25: =IF( C25="INSUMO", IFERROR( IF( INDEX( Insumos!C:C, MATCH( A25&B25, Insumos!I:I, 0) )="Mao_obra", INDEX( Insumos!F:F, MATCH( A25&B25, Insumos!I:I, 0) ), 0 ), "Não encontrado"), IFERROR( INDEX(M:M, MATCH( A25&B25,AG:AG, 0) ), "Não encontrado") ) -> 7890.67 | M25: =L25*G25/1 -> 7890.67 | N25: =IF( C25="INSUMO", IFERROR( IF( INDEX( Insumos!C:C, MATCH( A25&B25, Insumos!I:I, 0) )="Equipamento", INDEX( Insumos!F:F, MATCH( A25&B25, Insumos!I:I, 0) ), 0 ), "Não encontrado"), IFERROR( INDEX(O:O, MATCH( A25&B25,AG:AG, 0) ), "Não encontrado") ) -> 0 | O25: =N25*G25/1 -> 0 | P25: =IF( C25="INSUMO", IFERROR( IF( INDEX( Insumos!C:C, MATCH( A25&B25, Insumos!I:I, 0) )="Transporte", INDEX( Insumos!F:F, MATCH( A25&B25, Insumos!I:I, 0) ), 0 ), "Não encontrado"), IFERROR( INDEX(Q:Q, MATCH( A25&B25,AG:AG, 0) ), "Não encontrado") ) -> 0 | Q25: =P25*G25/1 -> 0 | R25: =IF( C25="INSUMO", IFERROR( IF( INDEX( Insumos!C:C, MATCH( A25&B25, Insumos!I:I, 0) )="Terceirizados", INDEX( Insumos!F:F, MATCH( A25&B25, Insumos!I:I, 0) ), 0 ), "Não encontrado"), IFERROR( INDEX(S:S, MATCH( A25&B25,AG:AG, 0) ), "Não encontrado") ) -> 0 | S25: =R25*G25/1 -> 0 | T25: =IF( C25="INSUMO", IFERROR( IF( INDEX( Insumos!C:C, MATCH( A25&B25, Insumos!I:I, 0) )="Comissionamento", INDEX( Insumos!F:F, MATCH( A25&B25, Insumos!I:I, 0) ), 0 ), "Não encontrado"), IFERROR( INDEX(U:U, MATCH( A25&B25,AG:AG, 0) ), "Não encontrado") ) -> 0 | U25: =T25*G25/1 -> 0 | V25: =IF( C25="INSUMO", IFERROR( IF( INDEX( Insumos!C:C, MATCH( A25&B25, Insumos!I:I, 0) )="Verba", INDEX( Insumos!F:F, MATCH( A25&B25, Insumos!I:I, 0) ), 0 ), "Não encontrado"), IFERROR( INDEX(W:W, MATCH( A25&B25,AG:AG, 0) ), "Não encontrado") ) -> 0 | W25: =V25*G25/1 -> 0 | X25: =IF( C25="INSUMO", IFERROR( IF( INDEX( Insumos!C:C, MATCH( A25&B25, Insumos!I:I, 0) )="Outro", INDEX( Insumos!F:F, MATCH( A25&B25, Insumos!I:I, 0) ), 0 ), "Não encontrado"), IFERROR( INDEX(Y:Y, MATCH( A25&B25,AG:AG, 0) ), "Não encontrado") ) -> 0 | Y25: =X25*G25/1 -> 0 | Z25: =IF( C25="INSUMO", IFERROR( INDEX( Insumos!F:F, MATCH( A25&B25, Insumos!I:I, 0) ), "Não encontrado"), IFERROR( INDEX(AA:AA, MATCH( A25&B25,AG:AG, 0) ), "Não encontrado") ) -> 7890.67 | AA25: =G25*Z25 -> 7890.67
A26: 40864 | B26: SINAPI | C26: INSUMO | D26: Original | E26: SEGURO - MENSALISTA (COLETADO CAIXA - ENCARGOS COMPLEMENTARES) | F26: mês | G26: 1 | H26: =IF( C26="INSUMO", IFERROR( IF( INDEX( Insumos!C:C, MATCH( A26&B26, Insumos!I:I, 0) )="Material", INDEX( Insumos!F:F, MATCH( A26&B26, Insumos!I:I, 0) ), 0 ), "Não encontrado"), IFERROR( INDEX(I:I, MATCH( A26&B26,AG:AG, 0) ), "Não encontrado") ) -> 0 | I26: =H26*G26/1 -> 0 | J26: =T26 + N26 + L26 + X26 + R26 + P26 + V26 -> 18.28 | K26: =U26 + O26 + M26 + Y26 + S26 + Q26 + W26 -> 18.28 | L26: =IF( C26="INSUMO", IFERROR( IF( INDEX( Insumos!C:C, MATCH( A26&B26, Insumos!I:I, 0) )="Mao_obra", INDEX( Insumos!F:F, MATCH( A26&B26, Insumos!I:I, 0) ), 0 ), "Não encontrado"), IFERROR( INDEX(M:M, MATCH( A26&B26,AG:AG, 0) ), "Não encontrado") ) -> 0 | M26: =L26*G26/1 -> 0 | N26: =IF( C26="INSUMO", IFERROR( IF( INDEX( Insumos!C:C, MATCH( A26&B26, Insumos!I:I, 0) )="Equipamento", INDEX( Insumos!F:F, MATCH( A26&B26, Insumos!I:I, 0) ), 0 ), "Não encontrado"), IFERROR( INDEX(O:O, MATCH( A26&B26,AG:AG, 0) ), "Não encontrado") ) -> 0 | O26: =N26*G26/1 -> 0 | P26: =IF( C26="INSUMO", IFERROR( IF( INDEX( Insumos!C:C, MATCH( A26&B26, Insumos!I:I, 0) )="Transporte", INDEX( Insumos!F:F, MATCH( A26&B26, Insumos!I:I, 0) ), 0 ), "Não encontrado"), IFERROR( INDEX(Q:Q, MATCH( A26&B26,AG:AG, 0) ), "Não encontrado") ) -> 0 | Q26: =P26*G26/1 -> 0 | R26: =IF( C26="INSUMO", IFERROR( IF( INDEX( Insumos!C:C, MATCH( A26&B26, Insumos!I:I, 0) )="Terceirizados", INDEX( Insumos!F:F, MATCH( A26&B26, Insumos!I:I, 0) ), 0 ), "Não encontrado"), IFERROR( INDEX(S:S, MATCH( A26&B26,AG:AG, 0) ), "Não encontrado") ) -> 0 | S26: =R26*G26/1 -> 0 | T26: =IF( C26="INSUMO", IFERROR( IF( INDEX( Insumos!C:C, MATCH( A26&B26, Insumos!I:I, 0) )="Comissionamento", INDEX( Insumos!F:F, MATCH( A26&B26, Insumos!I:I, 0) ), 0 ), "Não encontrado"), IFERROR( INDEX(U:U, MATCH( A26&B26,AG:AG, 0) ), "Não encontrado") ) -> 0 | U26: =T26*G26/1 -> 0 | V26: =IF( C26="INSUMO", IFERROR( IF( INDEX( Insumos!C:C, MATCH( A26&B26, Insumos!I:I, 0) )="Verba", INDEX( Insumos!F:F, MATCH( A26&B26, Insumos!I:I, 0) ), 0 ), "Não encontrado"), IFERROR( INDEX(W:W, MATCH( A26&B26,AG:AG, 0) ), "Não encontrado") ) -> 0 | W26: =V26*G26/1 -> 0 | X26: =IF( C26="INSUMO", IFERROR( IF( INDEX( Insumos!C:C, MATCH( A26&B26, Insumos!I:I, 0) )="Outro", INDEX( Insumos!F:F, MATCH( A26&B26, Insumos!I:I, 0) ), 0 ), "Não encontrado"), IFERROR( INDEX(Y:Y, MATCH( A26&B26,AG:AG, 0) ), "Não encontrado") ) -> 18.28 | Y26: =X26*G26/1 -> 18.28 | Z26: =IF( C26="INSUMO", IFERROR( INDEX( Insumos!F:F, MATCH( A26&B26, Insumos!I:I, 0) ), "Não encontrado"), IFERROR( INDEX(AA:AA, MATCH( A26&B26,AG:AG, 0) ), "Não encontrado") ) -> 18.28 | AA26: =G26*Z26 -> 18.28
A27: 40863 | B27: SINAPI | C27: INSUMO | D27: Original | E27: EXAMES - MENSALISTA (COLETADO CAIXA - ENCARGOS COMPLEMENTARES) | F27: mês | G27: 1 | H27: =IF( C27="INSUMO", IFERROR( IF( INDEX( Insumos!C:C, MATCH( A27&B27, Insumos!I:I, 0) )="Material", INDEX( Insumos!F:F, MATCH( A27&B27, Insumos!I:I, 0) ), 0 ), "Não encontrado"), IFERROR( INDEX(I:I, MATCH( A27&B27,AG:AG, 0) ), "Não encontrado") ) -> 0 | I27: =H27*G27/1 -> 0 | J27: =T27 + N27 + L27 + X27 + R27 + P27 + V27 -> 271.75 | K27: =U27 + O27 + M27 + Y27 + S27 + Q27 + W27 -> 271.75 | L27: =IF( C27="INSUMO", IFERROR( IF( INDEX( Insumos!C:C, MATCH( A27&B27, Insumos!I:I, 0) )="Mao_obra", INDEX( Insumos!F:F, MATCH( A27&B27, Insumos!I:I, 0) ), 0 ), "Não encontrado"), IFERROR( INDEX(M:M, MATCH( A27&B27,AG:AG, 0) ), "Não encontrado") ) -> 0 | M27: =L27*G27/1 -> 0 | N27: =IF( C27="INSUMO", IFERROR( IF( INDEX( Insumos!C:C, MATCH( A27&B27, Insumos!I:I, 0) )="Equipamento", INDEX( Insumos!F:F, MATCH( A27&B27, Insumos!I:I, 0) ), 0 ), "Não encontrado"), IFERROR( INDEX(O:O, MATCH( A27&B27,AG:AG, 0) ), "Não encontrado") ) -> 0 | O27: =N27*G27/1 -> 0 | P27: =IF( C27="INSUMO", IFERROR( IF( INDEX( Insumos!C:C, MATCH( A27&B27, Insumos!I:I, 0) )="Transporte", INDEX( Insumos!F:F, MATCH( A27&B27, Insumos!I:I, 0) ), 0 ), "Não encontrado"), IFERROR( INDEX(Q:Q, MATCH( A27&B27,AG:AG, 0) ), "Não encontrado") ) -> 0 | Q27: =P27*G27/1 -> 0 | R27: =IF( C27="INSUMO", IFERROR( IF( INDEX( Insumos!C:C, MATCH( A27&B27, Insumos!I:I, 0) )="Terceirizados", INDEX( Insumos!F:F, MATCH( A27&B27, Insumos!I:I, 0) ), 0 ), "Não encontrado"), IFERROR( INDEX(S:S, MATCH( A27&B27,AG:AG, 0) ), "Não encontrado") ) -> 0 | S27: =R27*G27/1 -> 0 | T27: =IF( C27="INSUMO", IFERROR( IF( INDEX( Insumos!C:C, MATCH( A27&B27, Insumos!I:I, 0) )="Comissionamento", INDEX( Insumos!F:F, MATCH( A27&B27, Insumos!I:I, 0) ), 0 ), "Não encontrado"), IFERROR( INDEX(U:U, MATCH( A27&B27,AG:AG, 0) ), "Não encontrado") ) -> 0 | U27: =T27*G27/1 -> 0 | V27: =IF( C27="INSUMO", IFERROR( IF( INDEX( Insumos!C:C, MATCH( A27&B27, Insumos!I:I, 0) )="Verba", INDEX( Insumos!F:F, MATCH( A27&B27, Insumos!I:I, 0) ), 0 ), "Não encontrado"), IFERROR( INDEX(W:W, MATCH( A27&B27,AG:AG, 0) ), "Não encontrado") ) -> 0 | W27: =V27*G27/1 -> 0 | X27: =IF( C27="INSUMO", IFERROR( IF( INDEX( Insumos!C:C, MATCH( A27&B27, Insumos!I:I, 0) )="Outro", INDEX( Insumos!F:F, MATCH( A27&B27, Insumos!I:I, 0) ), 0 ), "Não encontrado"), IFERROR( INDEX(Y:Y, MATCH( A27&B27,AG:AG, 0) ), "Não encontrado") ) -> 271.75 | Y27: =X27*G27/1 -> 271.75 | Z27: =IF( C27="INSUMO", IFERROR( INDEX( Insumos!F:F, MATCH( A27&B27, Insumos!I:I, 0) ), "Não encontrado"), IFERROR( INDEX(AA:AA, MATCH( A27&B27,AG:AG, 0) ), "Não encontrado") ) -> 271.75 | AA27: =G27*Z27 -> 271.75
A28: 40862 | B28: SINAPI | C28: INSUMO | D28: Original | E28: ALIMENTACAO - MENSALISTA (COLETADO CAIXA - ENCARGOS COMPLEMENTARES) | F28: mês | G28: 1 | H28: =IF( C28="INSUMO", IFERROR( IF( INDEX( Insumos!C:C, MATCH( A28&B28, Insumos!I:I, 0) )="Material", INDEX( Insumos!F:F, MATCH( A28&B28, Insumos!I:I, 0) ), 0 ), "Não encontrado"), IFERROR( INDEX(I:I, MATCH( A28&B28,AG:AG, 0) ), "Não encontrado") ) -> 0 | I28: =H28*G28/1 -> 0 | J28: =T28 + N28 + L28 + X28 + R28 + P28 + V28 -> 0.01 | K28: =U28 + O28 + M28 + Y28 + S28 + Q28 + W28 -> 0.01 | L28: =IF( C28="INSUMO", IFERROR( IF( INDEX( Insumos!C:C, MATCH( A28&B28, Insumos!I:I, 0) )="Mao_obra", INDEX( Insumos!F:F, MATCH( A28&B28, Insumos!I:I, 0) ), 0 ), "Não encontrado"), IFERROR( INDEX(M:M, MATCH( A28&B28,AG:AG, 0) ), "Não encontrado") ) -> 0 | M28: =L28*G28/1 -> 0 | N28: =IF( C28="INSUMO", IFERROR( IF( INDEX( Insumos!C:C, MATCH( A28&B28, Insumos!I:I, 0) )="Equipamento", INDEX( Insumos!F:F, MATCH( A28&B28, Insumos!I:I, 0) ), 0 ), "Não encontrado"), IFERROR( INDEX(O:O, MATCH( A28&B28,AG:AG, 0) ), "Não encontrado") ) -> 0 | O28: =N28*G28/1 -> 0 | P28: =IF( C28="INSUMO", IFERROR( IF( INDEX( Insumos!C:C, MATCH( A28&B28, Insumos!I:I, 0) )="Transporte", INDEX( Insumos!F:F, MATCH( A28&B28, Insumos!I:I, 0) ), 0 ), "Não encontrado"), IFERROR( INDEX(Q:Q, MATCH( A28&B28,AG:AG, 0) ), "Não encontrado") ) -> 0 | Q28: =P28*G28/1 -> 0 | R28: =IF( C28="INSUMO", IFERROR( IF( INDEX( Insumos!C:C, MATCH( A28&B28, Insumos!I:I, 0) )="Terceirizados", INDEX( Insumos!F:F, MATCH( A28&B28, Insumos!I:I, 0) ), 0 ), "Não encontrado"), IFERROR( INDEX(S:S, MATCH( A28&B28,AG:AG, 0) ), "Não encontrado") ) -> 0 | S28: =R28*G28/1 -> 0 | T28: =IF( C28="INSUMO", IFERROR( IF( INDEX( Insumos!C:C, MATCH( A28&B28, Insumos!I:I, 0) )="Comissionamento", INDEX( Insumos!F:F, MATCH( A28&B28, Insumos!I:I, 0) ), 0 ), "Não encontrado"), IFERROR( INDEX(U:U, MATCH( A28&B28,AG:AG, 0) ), "Não encontrado") ) -> 0 | U28: =T28*G28/1 -> 0 | V28: =IF( C28="INSUMO", IFERROR( IF( INDEX( Insumos!C:C, MATCH( A28&B28, Insumos!I:I, 0) )="Verba", INDEX( Insumos!F:F, MATCH( A28&B28, Insumos!I:I, 0) ), 0 ), "Não encontrado"), IFERROR( INDEX(W:W, MATCH( A28&B28,AG:AG, 0) ), "Não encontrado") ) -> 0 | W28: =V28*G28/1 -> 0 | X28: =IF( C28="INSUMO", IFERROR( IF( INDEX( Insumos!C:C, MATCH( A28&B28, Insumos!I:I, 0) )="Outro", INDEX( Insumos!F:F, MATCH( A28&B28, Insumos!I:I, 0) ), 0 ), "Não encontrado"), IFERROR( INDEX(Y:Y, MATCH( A28&B28,AG:AG, 0) ), "Não encontrado") ) -> 0.01 | Y28: =X28*G28/1 -> 0.01 | Z28: =IF( C28="INSUMO", IFERROR( INDEX( Insumos!F:F, MATCH( A28&B28, Insumos!I:I, 0) ), "Não encontrado"), IFERROR( INDEX(AA:AA, MATCH( A28&B28,AG:AG, 0) ), "Não encontrado") ) -> 0.01 | AA28: =G28*Z28 -> 0.01
A29: 40861 | B29: SINAPI | C29: INSUMO | D29: Original | E29: TRANSPORTE - MENSALISTA (COLETADO CAIXA - ENCARGOS COMPLEMENTARES) | F29: mês | G29: 1 | H29: =IF( C29="INSUMO", IFERROR( IF( INDEX( Insumos!C:C, MATCH( A29&B29, Insumos!I:I, 0) )="Material", INDEX( Insumos!F:F, MATCH( A29&B29, Insumos!I:I, 0) ), 0 ), "Não encontrado"), IFERROR( INDEX(I:I, MATCH( A29&B29,AG:AG, 0) ), "Não encontrado") ) -> 0 | I29: =H29*G29/1 -> 0 | J29: =T29 + N29 + L29 + X29 + R29 + P29 + V29 -> 162.22 | K29: =U29 + O29 + M29 + Y29 + S29 + Q29 + W29 -> 162.22 | L29: =IF( C29="INSUMO", IFERROR( IF( INDEX( Insumos!C:C, MATCH( A29&B29, Insumos!I:I, 0) )="Mao_obra", INDEX( Insumos!F:F, MATCH( A29&B29, Insumos!I:I, 0) ), 0 ), "Não encontrado"), IFERROR( INDEX(M:M, MATCH( A29&B29,AG:AG, 0) ), "Não encontrado") ) -> 0 | M29: =L29*G29/1 -> 0 | N29: =IF( C29="INSUMO", IFERROR( IF( INDEX( Insumos!C:C, MATCH( A29&B29, Insumos!I:I, 0) )="Equipamento", INDEX( Insumos!F:F, MATCH( A29&B29, Insumos!I:I, 0) ), 0 ), "Não encontrado"), IFERROR( INDEX(O:O, MATCH( A29&B29,AG:AG, 0) ), "Não encontrado") ) -> 0 | O29: =N29*G29/1 -> 0 | P29: =IF( C29="INSUMO", IFERROR( IF( INDEX( Insumos!C:C, MATCH( A29&B29, Insumos!I:I, 0) )="Transporte", INDEX( Insumos!F:F, MATCH( A29&B29, Insumos!I:I, 0) ), 0 ), "Não encontrado"), IFERROR( INDEX(Q:Q, MATCH( A29&B29,AG:AG, 0) ), "Não encontrado") ) -> 0 | Q29: =P29*G29/1 -> 0 | R29: =IF( C29="INSUMO", IFERROR( IF( INDEX( Insumos!C:C, MATCH( A29&B29, Insumos!I:I, 0) )="Terceirizados", INDEX( Insumos!F:F, MATCH( A29&B29, Insumos!I:I, 0) ), 0 ), "Não encontrado"), IFERROR( INDEX(S:S, MATCH( A29&B29,AG:AG, 0) ), "Não encontrado") ) -> 0 | S29: =R29*G29/1 -> 0 | T29: =IF( C29="INSUMO", IFERROR( IF( INDEX( Insumos!C:C, MATCH( A29&B29, Insumos!I:I, 0) )="Comissionamento", INDEX( Insumos!F:F, MATCH( A29&B29, Insumos!I:I, 0) ), 0 ), "Não encontrado"), IFERROR( INDEX(U:U, MATCH( A29&B29,AG:AG, 0) ), "Não encontrado") ) -> 0 | U29: =T29*G29/1 -> 0 | V29: =IF( C29="INSUMO", IFERROR( IF( INDEX( Insumos!C:C, MATCH( A29&B29, Insumos!I:I, 0) )="Verba", INDEX( Insumos!F:F, MATCH( A29&B29, Insumos!I:I, 0) ), 0 ), "Não encontrado"), IFERROR( INDEX(W:W, MATCH( A29&B29,AG:AG, 0) ), "Não encontrado") ) -> 0 | W29: =V29*G29/1 -> 0 | X29: =IF( C29="INSUMO", IFERROR( IF( INDEX( Insumos!C:C, MATCH( A29&B29, Insumos!I:I, 0) )="Outro", INDEX( Insumos!F:F, MATCH( A29&B29, Insumos!I:I, 0) ), 0 ), "Não encontrado"), IFERROR( INDEX(Y:Y, MATCH( A29&B29,AG:AG, 0) ), "Não encontrado") ) -> 162.22 | Y29: =X29*G29/1 -> 162.22 | Z29: =IF( C29="INSUMO", IFERROR( INDEX( Insumos!F:F, MATCH( A29&B29, Insumos!I:I, 0) ), "Não encontrado"), IFERROR( INDEX(AA:AA, MATCH( A29&B29,AG:AG, 0) ), "Não encontrado") ) -> 162.22 | AA29: =G29*Z29 -> 162.22
A30: 100534 | B30: SINAPI | D30: Original | E30: TECNICO DE EDIFICACOES COM ENCARGOS COMPLEMENTARES | F30: mês | I30: =SUM(I31:I37) -> 0 | K30: =SUM(K31:K37) -> 4742.66 | M30: =SUM(M31:M37) -> 4150.26 | O30: =SUM(O31:O37) -> 0 | Q30: =SUM(Q31:Q37) -> 0 | S30: =SUM(S31:S37) -> 0 | U30: =SUM(U31:U37) -> 0 | W30: =SUM(W31:W37) -> 0 | Y30: =SUM(Y31:Y37) -> 592.4 | AA30: =SUM(AA31:AA37) -> 4742.66 | AF30: Livro SINAPI: Cálculos e Parâmetros | AG30: =A30&B30&C30 -> 100534SINAPI
A31: 43494 | B31: SINAPI | C31: INSUMO | D31: Original | E31: EPI - FAMILIA ALMOXARIFE - MENSALISTA (ENCARGOS COMPLEMENTARES - COLETADO CAIXA) | F31: mês | G31: 1 | H31: =IF( C31="INSUMO", IFERROR( IF( INDEX( Insumos!C:C, MATCH( A31&B31, Insumos!I:I, 0) )="Material", INDEX( Insumos!F:F, MATCH( A31&B31, Insumos!I:I, 0) ), 0 ), "Não encontrado"), IFERROR( INDEX(I:I, MATCH( A31&B31,AG:AG, 0) ), "Não encontrado") ) -> 0 | I31: =H31*G31/1 -> 0 | J31: =T31 + N31 + L31 + X31 + R31 + P31 + V31 -> 129.96 | K31: =U31 + O31 + M31 + Y31 + S31 + Q31 + W31 -> 129.96 | L31: =IF( C31="INSUMO", IFERROR( IF( INDEX( Insumos!C:C, MATCH( A31&B31, Insumos!I:I, 0) )="Mao_obra", INDEX( Insumos!F:F, MATCH( A31&B31, Insumos!I:I, 0) ), 0 ), "Não encontrado"), IFERROR( INDEX(M:M, MATCH( A31&B31,AG:AG, 0) ), "Não encontrado") ) -> 0 | M31: =L31*G31/1 -> 0 | N31: =IF( C31="INSUMO", IFERROR( IF( INDEX( Insumos!C:C, MATCH( A31&B31, Insumos!I:I, 0) )="Equipamento", INDEX( Insumos!F:F, MATCH( A31&B31, Insumos!I:I, 0) ), 0 ), "Não encontrado"), IFERROR( INDEX(O:O, MATCH( A31&B31,AG:AG, 0) ), "Não encontrado") ) -> 0 | O31: =N31*G31/1 -> 0 | P31: =IF( C31="INSUMO", IFERROR( IF( INDEX( Insumos!C:C, MATCH( A31&B31, Insumos!I:I, 0) )="Transporte", INDEX( Insumos!F:F, MATCH( A31&B31, Insumos!I:I, 0) ), 0 ), "Não encontrado"), IFERROR( INDEX(Q:Q, MATCH( A31&B31,AG:AG, 0) ), "Não encontrado") ) -> 0 | Q31: =P31*G31/1 -> 0 | R31: =IF( C31="INSUMO", IFERROR( IF( INDEX( Insumos!C:C, MATCH( A31&B31, Insumos!I:I, 0) )="Terceirizados", INDEX( Insumos!F:F, MATCH( A31&B31, Insumos!I:I, 0) ), 0 ), "Não encontrado"), IFERROR( INDEX(S:S, MATCH( A31&B31,AG:AG, 0) ), "Não encontrado") ) -> 0 | S31: =R31*G31/1 -> 0 | T31: =IF( C31="INSUMO", IFERROR( IF( INDEX( Insumos!C:C, MATCH( A31&B31, Insumos!I:I, 0) )="Comissionamento", INDEX( Insumos!F:F, MATCH( A31&B31, Insumos!I:I, 0) ), 0 ), "Não encontrado"), IFERROR( INDEX(U:U, MATCH( A31&B31,AG:AG, 0) ), "Não encontrado") ) -> 0 | U31: =T31*G31/1 -> 0 | V31: =IF( C31="INSUMO", IFERROR( IF( INDEX( Insumos!C:C, MATCH( A31&B31, Insumos!I:I, 0) )="Verba", INDEX( Insumos!F:F, MATCH( A31&B31, Insumos!I:I, 0) ), 0 ), "Não encontrado"), IFERROR( INDEX(W:W, MATCH( A31&B31,AG:AG, 0) ), "Não encontrado") ) -> 0 | W31: =V31*G31/1 -> 0 | X31: =IF( C31="INSUMO", IFERROR( IF( INDEX( Insumos!C:C, MATCH( A31&B31, Insumos!I:I, 0) )="Outro", INDEX( Insumos!F:F, MATCH( A31&B31, Insumos!I:I, 0) ), 0 ), "Não encontrado"), IFERROR( INDEX(Y:Y, MATCH( A31&B31,AG:AG, 0) ), "Não encontrado") ) -> 129.96 | Y31: =X31*G31/1 -> 129.96 | Z31: =IF( C31="INSUMO", IFERROR( INDEX( Insumos!F:F, MATCH( A31&B31, Insumos!I:I, 0) ), "Não encontrado"), IFERROR( INDEX(AA:AA, MATCH( A31&B31,AG:AG, 0) ), "Não encontrado") ) -> 129.96 | AA31: =G31*Z31 -> 129.96
A32: 43470 | B32: SINAPI | C32: INSUMO | D32: Original | E32: FERRAMENTAS - FAMILIA ALMOXARIFE - MENSALISTA (ENCARGOS COMPLEMENTARES - COLETADO CAIXA) | F32: mês | G32: 1 | H32: =IF( C32="INSUMO", IFERROR( IF( INDEX( Insumos!C:C, MATCH( A32&B32, Insumos!I:I, 0) )="Material", INDEX( Insumos!F:F, MATCH( A32&B32, Insumos!I:I, 0) ), 0 ), "Não encontrado"), IFERROR( INDEX(I:I, MATCH( A32&B32,AG:AG, 0) ), "Não encontrado") ) -> 0 | I32: =H32*G32/1 -> 0 | J32: =T32 + N32 + L32 + X32 + R32 + P32 + V32 -> 10.18 | K32: =U32 + O32 + M32 + Y32 + S32 + Q32 + W32 -> 10.18 | L32: =IF( C32="INSUMO", IFERROR( IF( INDEX( Insumos!C:C, MATCH( A32&B32, Insumos!I:I, 0) )="Mao_obra", INDEX( Insumos!F:F, MATCH( A32&B32, Insumos!I:I, 0) ), 0 ), "Não encontrado"), IFERROR( INDEX(M:M, MATCH( A32&B32,AG:AG, 0) ), "Não encontrado") ) -> 0 | M32: =L32*G32/1 -> 0 | N32: =IF( C32="INSUMO", IFERROR( IF( INDEX( Insumos!C:C, MATCH( A32&B32, Insumos!I:I, 0) )="Equipamento", INDEX( Insumos!F:F, MATCH( A32&B32, Insumos!I:I, 0) ), 0 ), "Não encontrado"), IFERROR( INDEX(O:O, MATCH( A32&B32,AG:AG, 0) ), "Não encontrado") ) -> 0 | O32: =N32*G32/1 -> 0 | P32: =IF( C32="INSUMO", IFERROR( IF( INDEX( Insumos!C:C, MATCH( A32&B32, Insumos!I:I, 0) )="Transporte", INDEX( Insumos!F:F, MATCH( A32&B32, Insumos!I:I, 0) ), 0 ), "Não encontrado"), IFERROR( INDEX(Q:Q, MATCH( A32&B32,AG:AG, 0) ), "Não encontrado") ) -> 0 | Q32: =P32*G32/1 -> 0 | R32: =IF( C32="INSUMO", IFERROR( IF( INDEX( Insumos!C:C, MATCH( A32&B32, Insumos!I:I, 0) )="Terceirizados", INDEX( Insumos!F:F, MATCH( A32&B32, Insumos!I:I, 0) ), 0 ), "Não encontrado"), IFERROR( INDEX(S:S, MATCH( A32&B32,AG:AG, 0) ), "Não encontrado") ) -> 0 | S32: =R32*G32/1 -> 0 | T32: =IF( C32="INSUMO", IFERROR( IF( INDEX( Insumos!C:C, MATCH( A32&B32, Insumos!I:I, 0) )="Comissionamento", INDEX( Insumos!F:F, MATCH( A32&B32, Insumos!I:I, 0) ), 0 ), "Não encontrado"), IFERROR( INDEX(U:U, MATCH( A32&B32,AG:AG, 0) ), "Não encontrado") ) -> 0 | U32: =T32*G32/1 -> 0 | V32: =IF( C32="INSUMO", IFERROR( IF( INDEX( Insumos!C:C, MATCH( A32&B32, Insumos!I:I, 0) )="Verba", INDEX( Insumos!F:F, MATCH( A32&B32, Insumos!I:I, 0) ), 0 ), "Não encontrado"), IFERROR( INDEX(W:W, MATCH( A32&B32,AG:AG, 0) ), "Não encontrado") ) -> 0 | W32: =V32*G32/1 -> 0 | X32: =IF( C32="INSUMO", IFERROR( IF( INDEX( Insumos!C:C, MATCH( A32&B32, Insumos!I:I, 0) )="Outro", INDEX( Insumos!F:F, MATCH( A32&B32, Insumos!I:I, 0) ), 0 ), "Não encontrado"), IFERROR( INDEX(Y:Y, MATCH( A32&B32,AG:AG, 0) ), "Não encontrado") ) -> 10.18 | Y32: =X32*G32/1 -> 10.18 | Z32: =IF( C32="INSUMO", IFERROR( INDEX( Insumos!F:F, MATCH( A32&B32, Insumos!I:I, 0) ), "Não encontrado"), IFERROR( INDEX(AA:AA, MATCH( A32&B32,AG:AG, 0) ), "Não encontrado") ) -> 10.18 | AA32: =G32*Z32 -> 10.18
A33: 40946 | B33: SINAPI | C33: INSUMO | D33: Original | E33: TECNICO DE EDIFICACOES (MENSALISTA) | F33: mês | G33: 1 | H33: =IF( C33="INSUMO", IFERROR( IF( INDEX( Insumos!C:C, MATCH( A33&B33, Insumos!I:I, 0) )="Material", INDEX( Insumos!F:F, MATCH( A33&B33, Insumos!I:I, 0) ), 0 ), "Não encontrado"), IFERROR( INDEX(I:I, MATCH( A33&B33,AG:AG, 0) ), "Não encontrado") ) -> 0 | I33: =H33*G33/1 -> 0 | J33: =T33 + N33 + L33 + X33 + R33 + P33 + V33 -> 4150.26 | K33: =U33 + O33 + M33 + Y33 + S33 + Q33 + W33 -> 4150.26 | L33: =IF( C33="INSUMO", IFERROR( IF( INDEX( Insumos!C:C, MATCH( A33&B33, Insumos!I:I, 0) )="Mao_obra", INDEX( Insumos!F:F, MATCH( A33&B33, Insumos!I:I, 0) ), 0 ), "Não encontrado"), IFERROR( INDEX(M:M, MATCH( A33&B33,AG:AG, 0) ), "Não encontrado") ) -> 4150.26 | M33: =L33*G33/1 -> 4150.26 | N33: =IF( C33="INSUMO", IFERROR( IF( INDEX( Insumos!C:C, MATCH( A33&B33, Insumos!I:I, 0) )="Equipamento", INDEX( Insumos!F:F, MATCH( A33&B33, Insumos!I:I, 0) ), 0 ), "Não encontrado"), IFERROR( INDEX(O:O, MATCH( A33&B33,AG:AG, 0) ), "Não encontrado") ) -> 0 | O33: =N33*G33/1 -> 0 | P33: =IF( C33="INSUMO", IFERROR( IF( INDEX( Insumos!C:C, MATCH( A33&B33, Insumos!I:I, 0) )="Transporte", INDEX( Insumos!F:F, MATCH( A33&B33, Insumos!I:I, 0) ), 0 ), "Não encontrado"), IFERROR( INDEX(Q:Q, MATCH( A33&B33,AG:AG, 0) ), "Não encontrado") ) -> 0 | Q33: =P33*G33/1 -> 0 | R33: =IF( C33="INSUMO", IFERROR( IF( INDEX( Insumos!C:C, MATCH( A33&B33, Insumos!I:I, 0) )="Terceirizados", INDEX( Insumos!F:F, MATCH( A33&B33, Insumos!I:I, 0) ), 0 ), "Não encontrado"), IFERROR( INDEX(S:S, MATCH( A33&B33,AG:AG, 0) ), "Não encontrado") ) -> 0 | S33: =R33*G33/1 -> 0 | T33: =IF( C33="INSUMO", IFERROR( IF( INDEX( Insumos!C:C, MATCH( A33&B33, Insumos!I:I, 0) )="Comissionamento", INDEX( Insumos!F:F, MATCH( A33&B33, Insumos!I:I, 0) ), 0 ), "Não encontrado"), IFERROR( INDEX(U:U, MATCH( A33&B33,AG:AG, 0) ), "Não encontrado") ) -> 0 | U33: =T33*G33/1 -> 0 | V33: =IF( C33="INSUMO", IFERROR( IF( INDEX( Insumos!C:C, MATCH( A33&B33, Insumos!I:I, 0) )="Verba", INDEX( Insumos!F:F, MATCH( A33&B33, Insumos!I:I, 0) ), 0 ), "Não encontrado"), IFERROR( INDEX(W:W, MATCH( A33&B33,AG:AG, 0) ), "Não encontrado") ) -> 0 | W33: =V33*G33/1 -> 0 | X33: =IF( C33="INSUMO", IFERROR( IF( INDEX( Insumos!C:C, MATCH( A33&B33, Insumos!I:I, 0) )="Outro", INDEX( Insumos!F:F, MATCH( A33&B33, Insumos!I:I, 0) ), 0 ), "Não encontrado"), IFERROR( INDEX(Y:Y, MATCH( A33&B33,AG:AG, 0) ), "Não encontrado") ) -> 0 | Y33: =X33*G33/1 -> 0 | Z33: =IF( C33="INSUMO", IFERROR( INDEX( Insumos!F:F, MATCH( A33&B33, Insumos!I:I, 0) ), "Não encontrado"), IFERROR( INDEX(AA:AA, MATCH( A33&B33,AG:AG, 0) ), "Não encontrado") ) -> 4150.26 | AA33: =G33*Z33 -> 4150.26
